Workbook

Sheet Directions
A1: How to Calibrate and Test the Preformance of your F-751 Kiwi Quality Meter
A3: STEPS: | B3: DIRECTIONS:
A4: 1 | B4: Collect 10 kiwi fruit for the calibration. Make sure all fruit are relatively firm and not soft. The set should include fruit from as wide a range as possible, from low to high dry matter (at least a range of 10% dry matter; for example 20-30% dry matter and at a least a range of 10 degrees brix)
A5: 2 | B5: Prior to beginning measurements, ensure that all kiwis are at room temperature by making sure they have been sitting out of direct sunlight in the room temperature setting (20-25C) for at least 2 hours. *If you will be scanning fruit at a temperature other than room temp, let the fruit equilibrate the same way at the required temperature.
A6: 3 | B6: Number the kiwis 1-10 using a permanent marker.
A7: 5 | B7: Perform 1 scan on 1 side of the fruit. The settings on the device will read as follows: 10 fruit, 1 sides, 1 scan per side. Scans should be done on the same side for all fruit. Choose to either place the kiwi with the blossom end or stem end facing you during scanning and do the same for all remaining fruit
A8: 6 | B8: Scanning should proceed in the following order: "1, 2, 3, etc."
A9: 7 | B9: Once the scanning of all fruit is completed, archive the data by navigating to Archive Data and following the on-screen prompts to archive
A10: 8 | B10: Power the instrument OFF. Eject the SD card and insert into your PC | D10: Sample # | E10: F-751 Avg. DM Prediction | F10: Open the .txt file "Gold_AppLog", "Green_AppLog", or "Red_AppLog" and paste entire contents HERE (I12)
A11: 9 | B11: Navigate to the Archive folder on the SD card and open the folder with the data you archived. | D11: 1 | E11: =S13 -> 19.4
A12: 10 | B12: Open the .txt file called "Gold_AppLog", "Green_AppLog", or "Red_AppLog" depending on which variety you are measureing, and copy and paste the entire contents in the cell indicated by the blue arrow (I12). If there are any scans that were messed up or extra data in the text file, remove them before pasting. | D12: 2 | E12: =S14 -> 19.4 | I12: Timestamp | J12: Measurement ID | K12: Device ID | L12: Bin | M12: Fruit | N12: Side | O12: Scan | P12: Tags | Q12: Latitude | R12: Longitude | S12: DM | T12: Brix | U12: Hue
D13: 3 | E13: =S15 -> 18.3 | I13: 46268.405 | J13: 0e7ed814-2276-5b2b-4d35-357af0f8387a | K13: 751-002-XXXXX | L13: BIN001 | M13: 1 | N13: 1 | O13: 1 | P13: #Example | Q13: 0 | R13: 0 | S13: 19.4 | T13: 7.4 | U13: 107.44
D14: 4 | E14: =S16 -> 18 | I14: 46268.405 | J14: 2acb4091-8857-7700-73d2-1b7cdc62f32e | K14: 751-002-XXXXX | L14: BIN001 | M14: 2 | N14: 1 | O14: 1 | P14: #Example | Q14: 0 | R14: 0 | S14: 19.4 | T14: 7.87 | U14: 106.69
D15: 5 | E15: =S17 -> 20.5 | I15: 46268.405 | J15: 3d3be4cd-70d6-03db-fb14-4f1c78208c75 | K15: 751-002-XXXXX | L15: BIN001 | M15: 3 | N15: 1 | O15: 1 | P15: #Example | Q15: 0 | R15: 0 | S15: 18.3 | T15: 6.31 | U15: 108.89
D16: 6 | E16: =S18 -> 18.3 | I16: 46268.406 | J16: 1afeaa2d-ba77-5e78-397b-66255ef6057b | K16: 751-002-XXXXX | L16: BIN001 | M16: 4 | N16: 1 | O16: 1 | P16: #Example | Q16: 0 | R16: 0 | S16: 18 | T16: 7.79 | U16: 108.2
D17: 7 | E17: =S19 -> 17.9 | I17: 46268.406 | J17: 3ffcbaaa-c5d6-7222-347a-1165fe784c15 | K17: 751-002-XXXXX | L17: BIN001 | M17: 5 | N17: 1 | O17: 1 | P17: #Example | Q17: 0 | R17: 0 | S17: 20.5 | T17: 8.03 | U17: 105.82
D18: 8 | E18: =S20 -> 17.9 | I18: 46268.406 | J18: 7a457b73-e4db-616f-221e-9668664d9e29 | K18: 751-002-XXXXX | L18: BIN001 | M18: 6 | N18: 1 | O18: 1 | P18: #Example | Q18: 0 | R18: 0 | S18: 18.3 | T18: 7.75 | U18: 107.67
D19: 9 | E19: =S21 -> 18.8 | I19: 46268.406 | J19: 0d025e1b-e753-7ce5-8dc2-a801eb2ec745 | K19: 751-002-XXXXX | L19: BIN001 | M19: 7 | N19: 1 | O19: 1 | P19: #Example | Q19: 0 | R19: 0 | S19: 17.9 | T19: 7.33 | U19: 107.37
D20: 10 | E20: =S22 -> 19.5 | I20: 46268.407 | J20: 360b3867-d676-33ae-0d3d-f043d3bb4b76 | K20: 751-002-XXXXX | L20: BIN001 | M20: 8 | N20: 1 | O20: 1 | P20: #Example | Q20: 0 | R20: 0 | S20: 17.9 | T20: 7.04 | U20: 106.94
I21: 46268.407 | J21: 57e3c9da-647e-6338-017f-485711295b3d | K21: 751-002-XXXXX | L21: BIN001 | M21: 9 | N21: 1 | O21: 1 | P21: #Example | Q21: 0 | R21: 0 | S21: 18.8 | T21: 6.79 | U21: 108.63
I22: 46268.407 | J22: 5555b451-9f5f-366f-9f69-a159902c331b | K22: 751-002-XXXXX | L22: BIN001 | M22: 10 | N22: 1 | O22: 1 | P22: #Example | Q22: 0 | R22: 0 | S22: 19.5 | T22: 7.88 | U22: 106.94
D23: Sample # | E23: F-751 Avg. Brix Prediction
D24: 1 | E24: =T13 -> 7.4
D25: 2 | E25: =T14 -> 7.87
D26: 3 | E26: =T15 -> 6.31
D27: 4 | E27: =T16 -> 7.79
D28: 5 | E28: =T17 -> 8.03
D29: 6 | E29: =T18 -> 7.75
D30: 7 | E30: =T19 -> 7.33
D31: 8 | E31: =T20 -> 7.04
D32: 9 | E32: =T21 -> 6.79
D33: 10 | E33: =T22 -> 7.88
D35: Sample # | E35: F-751 Avg. Hue Prediction
D36: 1 | E36: =U13 -> 107.44
D37: 2 | E37: =U14 -> 106.69
D38: 3 | E38: =U15 -> 108.89
D39: 4 | E39: =U16 -> 108.2
D40: 5 | E40: =U17 -> 105.82
D41: 6 | E41: =U18 -> 107.67
D42: 7 | E42: =U19 -> 107.37
...

Sheet Analytical Dry Matter & Brix
A2: STEPS: | B2: DIRECTIONS:
A3: 1 | B3: After the scans are complete, pre-weigh 10 pieces of weigh paper labeled with the sample number (Ex. 1, 2, 3, etc.) - these are for your dry matter samples [Picture 1]
A4: 2 | B4: Input the values of the weigh boats in the column marked "Boat Weight." Ideally, your scale should have a resolution of at least 0.001 g.
A5: 3 | B5: Execute the next steps as quickly as possible to reduce the amount of water loss from the kiwi samples.
A6: 4 | B6: Slice the kiwi in half crosswise [Picture 2]
A7: 5 | B7: You now have 1 half of a kiwi with the blossom end and one with the stem end. Take the half with the stem end and slice the thinnest slice possible from the open cut. [Picture 3] This is your dry matter sample. Place on a pre-weighed piece of weigh paper and record the total weight in the column labeled "Boat+Fresh Core" [Picture 4]. Place in the dehydrator and discard that half of the fruit [Picture 5]
A8: 6 | B8: Take the half of the fruit that has the blossom end and squeeze a few drops over a refractometer lens. Record brix in the table below and discard the sample [Picture 6]
A9: 7 | B9: Repeat steps 4-7 with reamining fruit
A10: 8 | B10: Dry the samples in a food dehydrator at 60-65°C for ~48 - 72 hours or follow your standardized microwave dehydration protocol, making sure not to burn any of the samples.
A11: 9 | B11: Remove any burned samples from the analysis.
A12: 10 | B12: Remove 5 random samples from the dehydrator or oven, allow to cool, then weigh the samples. Record the weight in the column labeled "Boat + Dry Core INITIAL."
A13: 11 | B13: Put the 5 samples back into the oven or dehydrator and allow them to dry for an additional 30 minutes. | O13: Picture 1 | S13: Picture 2 | V13: Picture 3
A14: 12 | B14: Remove the same 5 samples from steps 10-11 and allow to cool. Weigh the samples and record the weight in the column labeled "Boat + Dry Core FINAL." If the two values are within ± 0.0100g, the cell will be highlighted green indicating the samples have been completely dried and you may proceed with the next step.
A16: 13 | B16: Once constant weight has been confirmed, remove the remaining 5 samples. Record the weight of the dried slice in the weigh boat from these 5 samples and record in column G marked "Boat + Dry Core FINAL."
A17: 14 | B17: Proceed to the "Linear Regression" tab.
D18: Your data goes here!
B22: Sample | C22: Boat weight | D22: Boat + Fresh Core | E22: Wet Weight | F22: Boat + Dry Core INITIAL | G22: Boat + Dry Core FINAL | H22: Dry Weight | I22: % Dry Matter | J22: Sample | K22: Brix | L22: Hue
B23: 1 | E23: =D23-C23 -> 0 | H23: =G23-C23 -> 0 | I23: =(H23/E23)*100 -> #DIV/0! | J23: 1 | O23: Picture 4 | S23: Picture 5 | V23: Picture 6
B24: 2 | E24: =D24-C24 -> 0 | H24: =G24-C24 -> 0 | I24: =(H24/E24)*100 -> #DIV/0! | J24: 2
B25: 3 | E25: =D25-C25 -> 0 | H25: =G25-C25 -> 0 | I25: =(H25/E25)*100 -> #DIV/0! | J25: 3
B26: 4 | E26: =D26-C26 -> 0 | H26: =G26-C26 -> 0 | I26: =(H26/E26)*100 -> #DIV/0! | J26: 4
B27: 5 | E27: =D27-C27 -> 0 | H27: =G27-C27 -> 0 | I27: =(H27/E27)*100 -> #DIV/0! | J27: 5
B28: 6 | E28: =D28-C28 -> 0 | H28: =G28-C28 -> 0 | I28: =(H28/E28)*100 -> #DIV/0! | J28: 6
B29: 7 | E29: =D29-C29 -> 0 | H29: =G29-C29 -> 0 | I29: =(H29/E29)*100 -> #DIV/0! | J29: 7
B30: 8 | E30: =D30-C30 -> 0 | H30: =G30-C30 -> 0 | I30: =(H30/E30)*100 -> #DIV/0! | J30: 8
B31: 9 | E31: =D31-C31 -> 0 | H31: =G31-C31 -> 0 | I31: =(H31/E31)*100 -> #DIV/0! | J31: 9
B32: 10 | E32: =D32-C32 -> 0 | H32: =G32-C32 -> 0 | I32: =(H32/E32)*100 -> #DIV/0! | J32: 10

Sheet Linear Regression
A1: *Important Note: This worksheet does not require any data entry! Do not input any data into any cell in the tab!
A4: Sample | B4: 751 % DM Prediction | C4: Analytical % DM | D4: Corrected Prediction | G4: 751 Prediction | H4: Analytical %DM | I4: Difference | J4: Corrected R2
A5: 1 | B5: =Directions!E11 -> 19.4 | C5: ='Analytical Dry Matter & Brix'!I23 -> #DIV/0! | D5: =B5+$I$5 -> #DIV/0! | F5: All Fruit Avg (DM) | G5: =AVERAGE(B5:B14) -> 18.8 | H5: =AVERAGE(C5:C14) -> #DIV/0! | I5: =H5-G5 -> #DIV/0! | J5: =RSQ(C5:C14,D5:D14) -> #DIV/0!
A6: 2 | B6: =Directions!E12 -> 19.4 | C6: ='Analytical Dry Matter & Brix'!I24 -> #DIV/0! | D6: =B6+$I$5 -> #DIV/0! | F6: All Fruit Avg (Brix) | G6: =AVERAGE(B17:B26) -> 7.419 | H6: =AVERAGE(C17:C26) -> 0 | I6: =H6-G6 -> -7.419 | J6: =RSQ(C17:C26,D17:D26) -> #DIV/0!
A7: 3 | B7: =Directions!E13 -> 18.3 | C7: ='Analytical Dry Matter & Brix'!I25 -> #DIV/0! | D7: =B7+$I$5 -> #DIV/0! | F7: All Fruit Avg (Hue) | G7: =AVERAGE(B29:B38) -> 107.459 | H7: =AVERAGE(C29:C38) -> 0 | I7: =H7-G7 -> -107.459 | J7: =RSQ(D29:D38,C29:C38) -> #DIV/0!
A8: 4 | B8: =Directions!E14 -> 18 | C8: ='Analytical Dry Matter & Brix'!I26 -> #DIV/0! | D8: =B8+$I$5 -> #DIV/0!
A9: 5 | B9: =Directions!E15 -> 20.5 | C9: ='Analytical Dry Matter & Brix'!I27 -> #DIV/0! | D9: =B9+$I$5 -> #DIV/0! | F9: Step | G9: Directions
A10: 6 | B10: =Directions!E16 -> 18.3 | C10: ='Analytical Dry Matter & Brix'!I28 -> #DIV/0! | D10: =B10+$I$5 -> #DIV/0! | F10: 1 | G10: Do any values (from F-751 Predictions or Traditional Analysis) appear to be outliers? If so, remove them from the data set | R10: Dry Matter | S10: Brix | T10: Hue
A11: 7 | B11: =Directions!E17 -> 17.9 | C11: ='Analytical Dry Matter & Brix'!I29 -> #DIV/0! | D11: =B11+$I$5 -> #DIV/0! | F11: 3 | G11: Does the corrected RMSE meet the required criteria? (RMSE < 2 for DM and Brix, RMSE < 5 for Hue) | Q11: RMSE | R11: {=SQRT(SUMSQ(C5:C14-D5:D14)/COUNTA(C5:C14))} -> #DIV/0! | S11: {=SQRT(SUMSQ(C17:C26-D17:D26)/COUNTA(C17:C26))} -> 0.53046112 | T11: {=SQRT(SUMSQ(C29:C38-D29:D38)/COUNTA(C29:C38))} -> 0.8852847
A12: 8 | B12: =Directions!E18 -> 17.9 | C12: ='Analytical Dry Matter & Brix'!I30 -> #DIV/0! | D12: =B12+$I$5 -> #DIV/0! | F12: 4 | G12: If yes, proceed to the "Intercept Only" tab, if not, contact Felix Instruments BEFORE continuing.
A13: 9 | B13: =Directions!E19 -> 18.8 | C13: ='Analytical Dry Matter & Brix'!I31 -> #DIV/0! | D13: =B13+$I$5 -> #DIV/0!
A14: 10 | B14: =Directions!E20 -> 19.5 | C14: ='Analytical Dry Matter & Brix'!I32 -> #DIV/0! | D14: =B14+$I$5 -> #DIV/0!
A16: Sample | B16: 751 °Brix Prediction | C16: Analytical Brix | D16: Corrected Prediction
A17: 1 | B17: =Directions!E24 -> 7.4 | C17: ='Analytical Dry Matter & Brix'!K23 -> 0 | D17: =B17+$I$6 -> -0.019
A18: 2 | B18: =Directions!E25 -> 7.87 | C18: ='Analytical Dry Matter & Brix'!K24 -> 0 | D18: =B18+$I$6 -> 0.451
A19: 3 | B19: =Directions!E26 -> 6.31 | C19: ='Analytical Dry Matter & Brix'!K25 -> 0 | D19: =B19+$I$6 -> -1.109
A20: 4 | B20: =Directions!E27 -> 7.79 | C20: ='Analytical Dry Matter & Brix'!K26 -> 0 | D20: =B20+$I$6 -> 0.371
A21: 5 | B21: =Directions!E28 -> 8.03 | C21: ='Analytical Dry Matter & Brix'!K27 -> 0 | D21: =B21+$I$6 -> 0.611
A22: 6 | B22: =Directions!E29 -> 7.75 | C22: ='Analytical Dry Matter & Brix'!K28 -> 0 | D22: =B22+$I$6 -> 0.331
A23: 7 | B23: =Directions!E30 -> 7.33 | C23: ='Analytical Dry Matter & Brix'!K29 -> 0 | D23: =B23+$I$6 -> -0.089
A24: 8 | B24: =Directions!E31 -> 7.04 | C24: ='Analytical Dry Matter & Brix'!K30 -> 0 | D24: =B24+$I$6 -> -0.379
A25: 9 | B25: =Directions!E32 -> 6.79 | C25: ='Analytical Dry Matter & Brix'!K31 -> 0 | D25: =B25+$I$6 -> -0.629
A26: 10 | B26: =Directions!E33 -> 7.88 | C26: ='Analytical Dry Matter & Brix'!K32 -> 0 | D26: =B26+$I$6 -> 0.461
A28: Sample | B28: 751 Hue Prediction | C28: Analytical Hue | D28: Corrected Prediction
A29: 1 | B29: =Directions!E36 -> 107.44 | C29: ='Analytical Dry Matter & Brix'!L23 -> 0 | D29: =B29+$I$7 -> -0.019
A30: 2 | B30: =Directions!E37 -> 106.69 | C30: ='Analytical Dry Matter & Brix'!L24 -> 0 | D30: =B30+$I$7 -> -0.769
A31: 3 | B31: =Directions!E38 -> 108.89 | C31: ='Analytical Dry Matter & Brix'!L25 -> 0 | D31: =B31+$I$7 -> 1.431
A32: 4 | B32: =Directions!E39 -> 108.2 | C32: ='Analytical Dry Matter & Brix'!L26 -> 0 | D32: =B32+$I$7 -> 0.741
A33: 5 | B33: =Directions!E40 -> 105.82 | C33: ='Analytical Dry Matter & Brix'!L27 -> 0 | D33: =B33+$I$7 -> -1.639
A34: 6 | B34: =Directions!E41 -> 107.67 | C34: ='Analytical Dry Matter & Brix'!L28 -> 0 | D34: =B34+$I$7 -> 0.211
A35: 7 | B35: =Directions!E42 -> 107.37 | C35: ='Analytical Dry Matter & Brix'!L29 -> 0 | D35: =B35+$I$7 -> -0.089
A36: 8 | B36: =Directions!E43 -> 106.94 | C36: ='Analytical Dry Matter & Brix'!L30 -> 0 | D36: =B36+$I$7 -> -0.519
A37: 9 | B37: =Directions!E44 -> 108.63 | C37: ='Analytical Dry Matter & Brix'!L31 -> 0 | D37: =B37+$I$7 -> 1.171
A38: 10 | B38: =Directions!E45 -> 106.94 | C38: ='Analytical Dry Matter & Brix'!L32 -> 0 | D38: =B38+$I$7 -> -0.519

Sheet Intercept Update
A1: Step | B1: Direction
A3: 1 | B3: To change the Measurement Offset, power on the device, select Options - Measurement Offsets - DM or Brix
H4: Dry Matter | I4: Brix | J4: Hue
A5: 2 | B5: Input the current Measurement Offset here:
A6: 3 | B6: Change the Measurement Offset value to this: | H6: ='Linear Regression'!I5+H5 -> #DIV/0! | I6: ='Linear Regression'!I6+I5 -> -7.419 | J6: ='Linear Regression'!I7+J5 -> -107.459
A7: 4 | B7: Press the right button to save the new Measurement Offset.
A8: 5 | B8: Finally, turn the instrument off and back on before use. Congratulations, your device has been optimized!
